Package: decoupleR Version: 2.15.0 Command: chmod a+r decoupleR -R && F:\biocbuild\bbs-3.22-bioc\R\bin\R.exe CMD build --keep-empty-dirs --no-resave-data decoupleR StartedAt: 2025-07-16 18:25:15 -0400 (Wed, 16 Jul 2025) EndedAt: 2025-07-16 18:30:34 -0400 (Wed, 16 Jul 2025) EllapsedTime: 318.6 seconds RetCode: 0 Status: OK PackageFile: decoupleR_2.15.0.tar.gz PackageFileSize: 3.694 MiB