Package: deconvR Version: 1.15.0 Command: F:\biocbuild\bbs-3.22-bioc\R\bin\R.exe CMD INSTALL deconvR StartedAt: 2025-07-20 16:58:00 -0400 (Sun, 20 Jul 2025) EndedAt: 2025-07-20 16:59:18 -0400 (Sun, 20 Jul 2025) EllapsedTime: 78.8 seconds RetCode: 0 Status: OK