Package: deconvR Version: 1.15.0 Command: F:\biocbuild\bbs-3.22-bioc\R\bin\R.exe CMD check --no-multiarch --install=check:deconvR.install-out.txt --library=F:\biocbuild\bbs-3.22-bioc\R\library --no-vignettes --timings deconvR_1.15.0.tar.gz StartedAt: 2025-07-21 01:09:02 -0400 (Mon, 21 Jul 2025) EndedAt: 2025-07-21 01:27:16 -0400 (Mon, 21 Jul 2025) EllapsedTime: 1093.8 seconds RetCode: 0 Status: OK CheckDir: deconvR.Rcheck Warnings: 0