Package: deconvR Version: 1.15.0 Command: chmod a+r deconvR -R && F:\biocbuild\bbs-3.22-bioc\R\bin\R.exe CMD build --keep-empty-dirs --no-resave-data deconvR StartedAt: 2025-07-20 18:25:18 -0400 (Sun, 20 Jul 2025) EndedAt: 2025-07-20 18:27:51 -0400 (Sun, 20 Jul 2025) EllapsedTime: 152.7 seconds RetCode: 0 Status: OK PackageFile: deconvR_1.15.0.tar.gz PackageFileSize: 3.789 MiB