Package: deconvR Version: 1.15.0 Command: rm -rf deconvR.buildbin-libdir && mkdir deconvR.buildbin-libdir && F:\biocbuild\bbs-3.22-bioc\R\bin\R.exe CMD INSTALL --build --library=deconvR.buildbin-libdir deconvR_1.15.0.tar.gz StartedAt: 2025-07-21 08:53:18 -0400 (Mon, 21 Jul 2025) EndedAt: 2025-07-21 08:54:19 -0400 (Mon, 21 Jul 2025) EllapsedTime: 61.2 seconds RetCode: 0 Status: OK PackageFile: deconvR_1.15.0.zip PackageFileSize: 3.817 MiB