############################################################################## ############################################################################## ### ### Running command: ### ### rm -rf deconvR.buildbin-libdir && mkdir deconvR.buildbin-libdir && F:\biocbuild\bbs-3.22-bioc\R\bin\R.exe CMD INSTALL --build --library=deconvR.buildbin-libdir deconvR_1.15.0.tar.gz ### ############################################################################## ############################################################################## * installing *source* package 'deconvR' ... ** this is package 'deconvR' version '1.15.0' ** using staged installation ** R ** data ** inst ** byte-compile and prepare package for lazy loading No methods found in package 'GenomeInfoDb' for request: 'seqlengths' when loading 'methylKit' No methods found in package 'GenomeInfoDb' for request: 'seqlevels' when loading 'methylKit' No methods found in package 'GenomeInfoDb' for request: 'seqnames' when loading 'methylKit' No methods found in package 'GenomeInfoDb' for request: 'sortSeqlevels' when loading 'methylKit' ** help *** installing help indices ** building package indices ** installing vignettes ** testing if installed package can be loaded from temporary location No methods found in package 'GenomeInfoDb' for request: 'seqlengths' when loading 'methylKit' No methods found in package 'GenomeInfoDb' for request: 'seqlevels' when loading 'methylKit' No methods found in package 'GenomeInfoDb' for request: 'seqnames' when loading 'methylKit' No methods found in package 'GenomeInfoDb' for request: 'sortSeqlevels' when loading 'methylKit' ** testing if installed package can be loaded from final location No methods found in package 'GenomeInfoDb' for request: 'seqlengths' when loading 'methylKit' No methods found in package 'GenomeInfoDb' for request: 'seqlevels' when loading 'methylKit' No methods found in package 'GenomeInfoDb' for request: 'seqnames' when loading 'methylKit' No methods found in package 'GenomeInfoDb' for request: 'sortSeqlevels' when loading 'methylKit' ** testing if installed package keeps a record of temporary installation path * MD5 sums packaged installation of 'deconvR' as deconvR_1.15.0.zip * DONE (deconvR)