Package: decontam Version: 1.29.0 Command: /home/biocbuild/bbs-3.22-bioc/R/bin/R CMD build --keep-empty-dirs --no-resave-data --md5 decontam StartedAt: 2025-06-29 16:54:41 -0400 (Sun, 29 Jun 2025) EndedAt: 2025-06-29 16:55:09 -0400 (Sun, 29 Jun 2025) EllapsedTime: 27.0 seconds RetCode: 0 Status: OK PackageFile: decontam_1.29.0.tar.gz PackageFileSize: 703.1 KiB