Package: decontam Version: 1.29.0 Command: rm -rf decontam.buildbin-libdir && mkdir decontam.buildbin-libdir && /Users/biocbuild/BBS/utils/build-universal.sh decontam_1.29.0.tar.gz /Library/Frameworks/R.framework/Resources/bin/R decontam.buildbin-libdir StartedAt: 2025-07-14 00:53:32 -0400 (Mon, 14 Jul 2025) EndedAt: 2025-07-14 00:53:42 -0400 (Mon, 14 Jul 2025) EllapsedTime: 9.2 seconds RetCode: 0 Status: OK PackageFile: decontam_1.29.0.tgz PackageFileSize: 760 KiB