Package: decontam Version: 1.29.0 Command: /Library/Frameworks/R.framework/Resources/bin/R CMD check --install=check:decontam.install-out.txt --library=/Library/Frameworks/R.framework/Resources/library --no-vignettes --timings decontam_1.29.0.tar.gz StartedAt: 2025-07-07 18:50:10 -0400 (Mon, 07 Jul 2025) EndedAt: 2025-07-07 18:50:31 -0400 (Mon, 07 Jul 2025) EllapsedTime: 20.3 seconds RetCode: 0 Status: OK CheckDir: decontam.Rcheck Warnings: 0