Package: decontam Version: 1.29.0 Command: /Library/Frameworks/R.framework/Resources/bin/R CMD build --keep-empty-dirs --no-resave-data decontam StartedAt: 2025-07-06 16:03:19 -0400 (Sun, 06 Jul 2025) EndedAt: 2025-07-06 16:03:30 -0400 (Sun, 06 Jul 2025) EllapsedTime: 11.1 seconds RetCode: 0 Status: OK PackageFile: decontam_1.29.0.tar.gz PackageFileSize: 724.1 KiB