Package: decontam Version: 1.29.0 Command: rm -rf decontam.buildbin-libdir && mkdir decontam.buildbin-libdir && /Users/biocbuild/BBS/utils/build-universal.sh decontam_1.29.0.tar.gz /Library/Frameworks/R.framework/Resources/bin/R decontam.buildbin-libdir StartedAt: 2025-07-06 22:15:31 -0400 (Sun, 06 Jul 2025) EndedAt: 2025-07-06 22:15:34 -0400 (Sun, 06 Jul 2025) EllapsedTime: 3.1 seconds RetCode: 0 Status: OK PackageFile: decontam_1.29.0.tgz PackageFileSize: 760.6 KiB