Package: decontX Version: 1.7.0 Command: /home/biocbuild/R/R/bin/R CMD check --install=check:decontX.install-out.txt --library=/home/biocbuild/R/R/site-library --no-vignettes --timings decontX_1.7.0.tar.gz StartedAt: 2025-10-03 06:22:23 -0000 (Fri, 03 Oct 2025) EndedAt: 2025-10-03 06:30:53 -0000 (Fri, 03 Oct 2025) EllapsedTime: 510.3 seconds RetCode: 0 Status: WARNINGS CheckDir: decontX.Rcheck Warnings: 1