Package: decontX Version: 1.7.0 Command: /home/biocbuild/R/R/bin/R CMD build --keep-empty-dirs --no-resave-data decontX StartedAt: 2025-10-02 23:24:04 -0000 (Thu, 02 Oct 2025) EndedAt: 2025-10-02 23:35:11 -0000 (Thu, 02 Oct 2025) EllapsedTime: 666.2 seconds RetCode: 0 Status: OK PackageFile: decontX_1.7.0.tar.gz PackageFileSize: 1.111 MiB