Package: decontX Version: 1.7.0 Command: F:\biocbuild\bbs-3.22-bioc\R\bin\R.exe CMD check --no-multiarch --install=check:decontX.install-out.txt --library=F:\biocbuild\bbs-3.22-bioc\R\library --no-vignettes --timings decontX_1.7.0.tar.gz StartedAt: 2025-08-15 02:20:39 -0400 (Fri, 15 Aug 2025) EndedAt: 2025-08-15 02:29:38 -0400 (Fri, 15 Aug 2025) EllapsedTime: 539.2 seconds RetCode: 0 Status: OK CheckDir: decontX.Rcheck Warnings: 0