Package: decontX Version: 1.7.0 Command: chmod a+r decontX -R && F:\biocbuild\bbs-3.22-bioc\R\bin\R.exe CMD build --keep-empty-dirs --no-resave-data decontX StartedAt: 2025-08-14 19:33:06 -0400 (Thu, 14 Aug 2025) EndedAt: 2025-08-14 19:45:37 -0400 (Thu, 14 Aug 2025) EllapsedTime: 751.0 seconds RetCode: 0 Status: OK PackageFile: decontX_1.7.0.tar.gz PackageFileSize: 970.3 KiB