Package: decontX Version: 1.7.0 Command: rm -rf decontX.buildbin-libdir && mkdir decontX.buildbin-libdir && F:\biocbuild\bbs-3.22-bioc\R\bin\R.exe CMD INSTALL --build --library=decontX.buildbin-libdir decontX_1.7.0.tar.gz StartedAt: 2025-08-15 10:06:36 -0400 (Fri, 15 Aug 2025) EndedAt: 2025-08-15 10:13:41 -0400 (Fri, 15 Aug 2025) EllapsedTime: 424.5 seconds RetCode: 0 Status: OK PackageFile: decontX_1.7.0.zip PackageFileSize: 1.969 MiB