Package: decontX Version: 1.7.0 Command: /Library/Frameworks/R.framework/Resources/bin/R CMD check --install=check:decontX.install-out.txt --library=/Library/Frameworks/R.framework/Resources/library --no-vignettes --timings decontX_1.7.0.tar.gz StartedAt: 2025-10-03 20:57:43 -0400 (Fri, 03 Oct 2025) EndedAt: 2025-10-03 21:05:30 -0400 (Fri, 03 Oct 2025) EllapsedTime: 467.4 seconds RetCode: 0 Status: OK CheckDir: decontX.Rcheck Warnings: 0