Package: decontX Version: 1.7.0 Command: /Library/Frameworks/R.framework/Resources/bin/R CMD build --keep-empty-dirs --no-resave-data decontX StartedAt: 2025-10-05 16:07:32 -0400 (Sun, 05 Oct 2025) EndedAt: 2025-10-05 16:10:25 -0400 (Sun, 05 Oct 2025) EllapsedTime: 172.8 seconds RetCode: 0 Status: OK PackageFile: decontX_1.7.0.tar.gz PackageFileSize: 1.994 MiB