Package: decontX Version: 1.7.0 Maintainer: Joshua Campbell MaintainerEmail: camp at bu.edu git_url: https://git.bioconductor.org/packages/decontX git_branch: devel git_last_commit: e2086dd git_last_commit_date: 2025-04-15 13:24:25 -0400 (Tue, 15 Apr 2025)