Package: debrowser Version: 1.37.0 Command: /Library/Frameworks/R.framework/Resources/bin/R CMD INSTALL debrowser StartedAt: 2025-07-01 15:25:57 -0400 (Tue, 01 Jul 2025) EndedAt: 2025-07-01 15:26:15 -0400 (Tue, 01 Jul 2025) EllapsedTime: 18.0 seconds RetCode: 0 Status: OK