Package: debCAM Version: 1.27.0 Command: /Library/Frameworks/R.framework/Resources/bin/R CMD build --keep-empty-dirs --no-resave-data debCAM StartedAt: 2025-06-26 16:32:30 -0400 (Thu, 26 Jun 2025) EndedAt: 2025-06-26 16:40:01 -0400 (Thu, 26 Jun 2025) EllapsedTime: 451.7 seconds RetCode: 0 Status: OK PackageFile: debCAM_1.27.0.tar.gz PackageFileSize: 3.73 MiB