Package: debCAM Version: 1.27.0 Command: /Library/Frameworks/R.framework/Resources/bin/R CMD INSTALL debCAM StartedAt: 2025-06-30 15:11:04 -0400 (Mon, 30 Jun 2025) EndedAt: 2025-06-30 15:11:08 -0400 (Mon, 30 Jun 2025) EllapsedTime: 4.1 seconds RetCode: 0 Status: OK