Package: debCAM Version: 1.27.0 Command: /Library/Frameworks/R.framework/Resources/bin/R CMD check --install=check:debCAM.install-out.txt --library=/Library/Frameworks/R.framework/Resources/library --no-vignettes --timings debCAM_1.27.0.tar.gz StartedAt: 2025-07-01 18:51:32 -0400 (Tue, 01 Jul 2025) EndedAt: 2025-07-01 18:52:51 -0400 (Tue, 01 Jul 2025) EllapsedTime: 79.9 seconds RetCode: 0 Status: OK CheckDir: debCAM.Rcheck Warnings: 0