Package: dearseq Version: 1.21.0 Command: /home/biocbuild/R/R/bin/R CMD INSTALL dearseq StartedAt: 2025-07-17 20:19:12 -0000 (Thu, 17 Jul 2025) EndedAt: 2025-07-17 20:19:51 -0000 (Thu, 17 Jul 2025) EllapsedTime: 38.7 seconds RetCode: 0 Status: OK