Package: dearseq Version: 1.21.0 Command: F:\biocbuild\bbs-3.22-bioc\R\bin\R.exe CMD check --no-multiarch --install=check:dearseq.install-out.txt --library=F:\biocbuild\bbs-3.22-bioc\R\library --no-vignettes --timings dearseq_1.21.0.tar.gz StartedAt: 2025-07-12 00:59:56 -0400 (Sat, 12 Jul 2025) EndedAt: 2025-07-12 01:01:39 -0400 (Sat, 12 Jul 2025) EllapsedTime: 103.2 seconds RetCode: 0 Status: OK CheckDir: dearseq.Rcheck Warnings: 0