Package: dearseq Version: 1.21.0 Command: /Library/Frameworks/R.framework/Resources/bin/R CMD build --keep-empty-dirs --no-resave-data dearseq StartedAt: 2025-07-14 16:03:37 -0400 (Mon, 14 Jul 2025) EndedAt: 2025-07-14 16:06:14 -0400 (Mon, 14 Jul 2025) EllapsedTime: 157.7 seconds RetCode: 0 Status: OK PackageFile: dearseq_1.21.0.tar.gz PackageFileSize: 763.4 KiB