Package: ddPCRclust Version: 1.29.0 Command: /Library/Frameworks/R.framework/Resources/bin/R CMD check --install=check:ddPCRclust.install-out.txt --library=/Library/Frameworks/R.framework/Resources/library --no-vignettes --timings ddPCRclust_1.29.0.tar.gz StartedAt: 2025-07-15 18:51:40 -0400 (Tue, 15 Jul 2025) EndedAt: 2025-07-15 18:52:36 -0400 (Tue, 15 Jul 2025) EllapsedTime: 55.7 seconds RetCode: 0 Status: OK CheckDir: ddPCRclust.Rcheck Warnings: 0