Package: ddCt Version: 1.65.0 Command: /home/biocbuild/R/R/bin/R CMD check --install=check:ddCt.install-out.txt --library=/home/biocbuild/R/R/site-library --no-vignettes --timings ddCt_1.65.0.tar.gz StartedAt: 2025-07-22 06:11:41 -0000 (Tue, 22 Jul 2025) EndedAt: 2025-07-22 06:12:20 -0000 (Tue, 22 Jul 2025) EllapsedTime: 39.0 seconds RetCode: 0 Status: WARNINGS CheckDir: ddCt.Rcheck Warnings: 1