Package: ddCt Version: 1.65.0 Command: F:\biocbuild\bbs-3.22-bioc\R\bin\R.exe CMD INSTALL ddCt StartedAt: 2025-07-20 15:27:40 -0400 (Sun, 20 Jul 2025) EndedAt: 2025-07-20 15:28:21 -0400 (Sun, 20 Jul 2025) EllapsedTime: 41.7 seconds RetCode: 0 Status: OK