Package: ddCt Version: 1.65.0 Command: F:\biocbuild\bbs-3.22-bioc\R\bin\R.exe CMD check --no-multiarch --install=check:ddCt.install-out.txt --library=F:\biocbuild\bbs-3.22-bioc\R\library --no-vignettes --timings ddCt_1.65.0.tar.gz StartedAt: 2025-07-22 01:10:44 -0400 (Tue, 22 Jul 2025) EndedAt: 2025-07-22 01:11:34 -0400 (Tue, 22 Jul 2025) EllapsedTime: 50.5 seconds RetCode: 0 Status: WARNINGS CheckDir: ddCt.Rcheck Warnings: 1