Package: dcanr Version: 1.25.0 Command: /home/biocbuild/R/R/bin/R CMD INSTALL dcanr StartedAt: 2025-07-07 20:10:46 -0000 (Mon, 07 Jul 2025) EndedAt: 2025-07-07 20:11:40 -0000 (Mon, 07 Jul 2025) EllapsedTime: 54.2 seconds RetCode: 0 Status: OK