Package: dcanr Version: 1.25.0 Command: /home/biocbuild/R/R/bin/R CMD check --install=check:dcanr.install-out.txt --library=/home/biocbuild/R/R/site-library --no-vignettes --timings dcanr_1.25.0.tar.gz StartedAt: 2025-07-11 07:12:25 -0000 (Fri, 11 Jul 2025) EndedAt: 2025-07-11 07:13:38 -0000 (Fri, 11 Jul 2025) EllapsedTime: 73.0 seconds RetCode: 0 Status: OK CheckDir: dcanr.Rcheck Warnings: 0