Package: dcanr Version: 1.25.0 Command: /Library/Frameworks/R.framework/Resources/bin/R CMD build --keep-empty-dirs --no-resave-data dcanr StartedAt: 2025-07-01 16:02:59 -0400 (Tue, 01 Jul 2025) EndedAt: 2025-07-01 16:03:17 -0400 (Tue, 01 Jul 2025) EllapsedTime: 17.2 seconds RetCode: 0 Status: OK PackageFile: dcanr_1.25.0.tar.gz PackageFileSize: 1.748 MiB