Package: dcGSA Version: 1.37.0 Command: F:\biocbuild\bbs-3.22-bioc\R\bin\R.exe CMD check --no-multiarch --install=check:dcGSA.install-out.txt --library=F:\biocbuild\bbs-3.22-bioc\R\library --no-vignettes --timings dcGSA_1.37.0.tar.gz StartedAt: 2025-07-15 01:04:45 -0400 (Tue, 15 Jul 2025) EndedAt: 2025-07-15 01:05:37 -0400 (Tue, 15 Jul 2025) EllapsedTime: 52.0 seconds RetCode: 0 Status: WARNINGS CheckDir: dcGSA.Rcheck Warnings: 1