Package: dcGSA Version: 1.37.0 Command: rm -rf dcGSA.buildbin-libdir && mkdir dcGSA.buildbin-libdir && F:\biocbuild\bbs-3.22-bioc\R\bin\R.exe CMD INSTALL --build --library=dcGSA.buildbin-libdir dcGSA_1.37.0.tar.gz StartedAt: 2025-07-15 08:45:00 -0400 (Tue, 15 Jul 2025) EndedAt: 2025-07-15 08:45:15 -0400 (Tue, 15 Jul 2025) EllapsedTime: 14.2 seconds RetCode: 0 Status: OK PackageFile: dcGSA_1.37.0.zip PackageFileSize: 54.8 KiB