Package: dcGSA Version: 1.37.0 Command: /home/biocbuild/bbs-3.22-bioc/R/bin/R CMD check --install=check:dcGSA.install-out.txt --library=/home/biocbuild/bbs-3.22-bioc/R/site-library --timings dcGSA_1.37.0.tar.gz StartedAt: 2025-07-15 21:25:56 -0400 (Tue, 15 Jul 2025) EndedAt: 2025-07-15 21:26:31 -0400 (Tue, 15 Jul 2025) EllapsedTime: 35.0 seconds RetCode: 0 Status: WARNINGS CheckDir: dcGSA.Rcheck Warnings: 1