Package: dcGSA Version: 1.37.0 Command: /Library/Frameworks/R.framework/Resources/bin/R CMD INSTALL dcGSA StartedAt: 2025-06-29 15:04:05 -0400 (Sun, 29 Jun 2025) EndedAt: 2025-06-29 15:04:07 -0400 (Sun, 29 Jun 2025) EllapsedTime: 1.9 seconds RetCode: 0 Status: OK