Package: dcGSA Version: 1.37.0 Command: /Library/Frameworks/R.framework/Resources/bin/R CMD build --keep-empty-dirs --no-resave-data dcGSA StartedAt: 2025-06-29 16:03:36 -0400 (Sun, 29 Jun 2025) EndedAt: 2025-06-29 16:03:37 -0400 (Sun, 29 Jun 2025) EllapsedTime: 1.0 seconds RetCode: 0 Status: OK PackageFile: dcGSA_1.37.0.tar.gz PackageFileSize: 37.42 KiB