Package: dcGSA Version: 1.37.0 Command: rm -rf dcGSA.buildbin-libdir && mkdir dcGSA.buildbin-libdir && /Users/biocbuild/BBS/utils/build-universal.sh dcGSA_1.37.0.tar.gz /Library/Frameworks/R.framework/Resources/bin/R dcGSA.buildbin-libdir StartedAt: 2025-06-29 22:15:21 -0400 (Sun, 29 Jun 2025) EndedAt: 2025-06-29 22:15:24 -0400 (Sun, 29 Jun 2025) EllapsedTime: 3.1 seconds RetCode: 0 Status: OK PackageFile: dcGSA_1.37.0.tgz PackageFileSize: 51.81 KiB