Package: dar Version: 1.5.0 Command: /home/biocbuild/R/R/bin/R CMD build --keep-empty-dirs --no-resave-data dar StartedAt: 2025-07-14 23:00:10 -0000 (Mon, 14 Jul 2025) EndedAt: 2025-07-14 23:06:22 -0000 (Mon, 14 Jul 2025) EllapsedTime: 372.2 seconds RetCode: 0 Status: OK PackageFile: dar_1.5.0.tar.gz PackageFileSize: 4.245 MiB