Package: dar Version: 1.5.0 Command: F:\biocbuild\bbs-3.22-bioc\R\bin\R.exe CMD INSTALL dar StartedAt: 2025-07-16 16:54:40 -0400 (Wed, 16 Jul 2025) EndedAt: 2025-07-16 16:55:41 -0400 (Wed, 16 Jul 2025) EllapsedTime: 61.2 seconds RetCode: 0 Status: OK