Package: dar Version: 1.5.0 Command: rm -rf dar.buildbin-libdir && mkdir dar.buildbin-libdir && F:\biocbuild\bbs-3.22-bioc\R\bin\R.exe CMD INSTALL --build --library=dar.buildbin-libdir dar_1.5.0.tar.gz StartedAt: 2025-07-17 08:47:11 -0400 (Thu, 17 Jul 2025) EndedAt: 2025-07-17 08:48:43 -0400 (Thu, 17 Jul 2025) EllapsedTime: 92.6 seconds RetCode: 0 Status: OK PackageFile: dar_1.5.0.zip PackageFileSize: 3.423 MiB