Package: dar Version: 1.5.0 Command: /home/biocbuild/bbs-3.22-bioc/R/bin/R CMD INSTALL dar StartedAt: 2025-07-16 16:08:07 -0400 (Wed, 16 Jul 2025) EndedAt: 2025-07-16 16:08:34 -0400 (Wed, 16 Jul 2025) EllapsedTime: 27.5 seconds RetCode: 0 Status: OK