Package: dar Version: 1.5.0 Command: /Library/Frameworks/R.framework/Resources/bin/R CMD INSTALL dar StartedAt: 2025-07-18 15:47:20 -0400 (Fri, 18 Jul 2025) EndedAt: 2025-07-18 15:47:52 -0400 (Fri, 18 Jul 2025) EllapsedTime: 31.9 seconds RetCode: 0 Status: OK