Package: dandelionR Version: 1.1.2 Command: F:\biocbuild\bbs-3.22-bioc\R\bin\R.exe CMD INSTALL dandelionR StartedAt: 2025-07-16 16:54:11 -0400 (Wed, 16 Jul 2025) EndedAt: 2025-07-16 16:55:16 -0400 (Wed, 16 Jul 2025) EllapsedTime: 65.2 seconds RetCode: 0 Status: OK