Package: dandelionR Version: 1.1.2 Command: chmod a+r dandelionR -R && F:\biocbuild\bbs-3.22-bioc\R\bin\R.exe CMD build --keep-empty-dirs --no-resave-data dandelionR StartedAt: 2025-07-16 18:21:13 -0400 (Wed, 16 Jul 2025) EndedAt: 2025-07-16 18:25:35 -0400 (Wed, 16 Jul 2025) EllapsedTime: 261.7 seconds RetCode: 0 Status: OK PackageFile: dandelionR_1.1.2.tar.gz PackageFileSize: 6.136 MiB