Package: dandelionR Version: 1.1.2 Command: rm -rf dandelionR.buildbin-libdir && mkdir dandelionR.buildbin-libdir && F:\biocbuild\bbs-3.22-bioc\R\bin\R.exe CMD INSTALL --build --library=dandelionR.buildbin-libdir dandelionR_1.1.2.tar.gz StartedAt: 2025-07-17 08:47:06 -0400 (Thu, 17 Jul 2025) EndedAt: 2025-07-17 08:48:33 -0400 (Thu, 17 Jul 2025) EllapsedTime: 86.4 seconds RetCode: 0 Status: OK PackageFile: dandelionR_1.1.2.zip PackageFileSize: 6.251 MiB