Package: dandelionR Version: 1.1.1 Command: /Library/Frameworks/R.framework/Resources/bin/R CMD INSTALL dandelionR StartedAt: 2025-07-01 15:28:28 -0400 (Tue, 01 Jul 2025) EndedAt: 2025-07-01 15:28:44 -0400 (Tue, 01 Jul 2025) EllapsedTime: 15.5 seconds RetCode: 0 Status: OK