Package: dandelionR Version: 1.1.1 Command: /Library/Frameworks/R.framework/Resources/bin/R CMD check --install=check:dandelionR.install-out.txt --library=/Library/Frameworks/R.framework/Resources/library --no-vignettes --timings dandelionR_1.1.1.tar.gz StartedAt: 2025-07-01 18:50:13 -0400 (Tue, 01 Jul 2025) EndedAt: 2025-07-01 18:52:14 -0400 (Tue, 01 Jul 2025) EllapsedTime: 121.5 seconds RetCode: 0 Status: OK CheckDir: dandelionR.Rcheck Warnings: 0