Package: dandelionR Version: 1.1.1 Command: /Library/Frameworks/R.framework/Resources/bin/R CMD build --keep-empty-dirs --no-resave-data dandelionR StartedAt: 2025-07-01 16:02:39 -0400 (Tue, 01 Jul 2025) EndedAt: 2025-07-01 16:03:39 -0400 (Tue, 01 Jul 2025) EllapsedTime: 59.7 seconds RetCode: 0 Status: OK PackageFile: dandelionR_1.1.1.tar.gz PackageFileSize: 9.717 MiB